BEGIN:VCALENDAR
VERSION:2.0
PRODID:-//Muzaffarpur Works - ECPv6.15.13//NONSGML v1.0//EN
CALSCALE:GREGORIAN
METHOD:PUBLISH
X-ORIGINAL-URL:https://muzaffarpurworks.com
X-WR-CALDESC:Events for Muzaffarpur Works
REFRESH-INTERVAL;VALUE=DURATION:PT1H
X-Robots-Tag:noindex
X-PUBLISHED-TTL:PT1H
BEGIN:VTIMEZONE
TZID:Asia/Kolkata
BEGIN:STANDARD
TZOFFSETFROM:+0530
TZOFFSETTO:+0530
TZNAME:IST
DTSTART:20240101T000000
END:STANDARD
END:VTIMEZONE
BEGIN:VEVENT
DTSTART;TZID=Asia/Kolkata:20260118T120000
DTEND;TZID=Asia/Kolkata:20260118T140000
DTSTAMP:20260421T175241
CREATED:20251221T151033Z
LAST-MODIFIED:20251221T151033Z
UID:2485-1768737600-1768744800@muzaffarpurworks.com
SUMMARY:Shubh Surabhi Speech Competition
DESCRIPTION:Shubh Surabhi Speech Competition\nCompetitions are not just about winning prizes or securing positions—they are about growth\, courage\, and learning. Every participant who steps forward chooses confidence over fear and effort over comfort. \nWith this spirit\, Shubh Surabhi Kalyan Sansthan and Team Kharauna proudly present the Shubh Surabhi Speech Competition\, organized under Shubh Surabhi Yuva Mahotsav 2026. \n📅 Date: 18 January 2026📍 Venue: Kharauna Library\, Muzaffarpur💰 Registration Fee: Just ₹50 \nThis competition is a platform for young voices to express ideas\, build confidence\, and learn the value of healthy competition. Every speech delivered reflects preparation\, dedication\, and the courage to be heard. \nThrough such programs\, we aim to encourage communication skills\, leadership\, and self-belief—qualities that last far beyond the stage. Each participant\, regardless of results\, contributes to the spirit of learning and collective growth. \nWe invite you to be a part of this journey\, because when individuals step forward to participate\, the entire community moves forward together. \nTo Apply in Competition Click Here\nJoin WhatsApp Group to get Event Alerts\nFor Sponsorship\, Partnership connect with Event Coordinator:\nMr. Nikesh Thakur \n📞 Contact: 8789025653 \n📲 Email: digitalkharauna@gmail.com
URL:https://muzaffarpurworks.com/event/shubh-surabhi-speech-competition/
LOCATION:Kharauna Library\, Kharauna Library\, Near Patahi Airport\, Kharauna\, Muzaffarpur\, Bihar\, 843113\, India
ATTACH;FMTTYPE=image/jpeg:https://muzaffarpurworks.com/wp-content/uploads/2025/12/Shubh-Surabhi-scaled.jpg
ORGANIZER;CN="Team Kharauna":MAILTO:digitalkharauna@gmail.com
END:VEVENT
BEGIN:VEVENT
DTSTART;TZID=Asia/Kolkata:20260118T100000
DTEND;TZID=Asia/Kolkata:20260118T120000
DTSTAMP:20260421T175241
CREATED:20251222T142659Z
LAST-MODIFIED:20251222T143001Z
UID:2540-1768730400-1768737600@muzaffarpurworks.com
SUMMARY:Shubh Surabhi Quiz Competition
DESCRIPTION:Shubh Surabhi Youva Mahotsav is a proud celebration of youth\, culture\, and knowledge. Over the years\, this Mahotsav has become a meaningful platform where multiple educational\, cultural\, and creative events take place\, inspiring young minds. Many esteemed guests\, scholars\, and inspiring personalities have graced the occasion\, motivating students to dream bigger and think deeper. \nAs part of this grand celebration\, we invite students to participate in an engaging Quiz Competition designed to sharpen minds and spark curiosity. \n📍 Venue: Kharauna Library📅 Date: 18 January 2026⏰ Time: 10:00 AM – 12:00 PM \n👩‍🎓 Participation Categories:🔹 Junior Section: Class 5 to 8🔹 Senior Section: Class 9 and above \n📘 Why Participate in the Quiz?Quizzes are more than just competitions—they help students boost confidence\, improve general awareness\, enhance quick thinking\, and develop a healthy curiosity to learn beyond textbooks. Standing on stage\, answering questions\, and competing with peers builds self-belief\, presence of mind\, and communication skills—qualities that stay for life. \n🏆 Awards & Recognition:Winners will be honored with:✔️ Memento✔️ Certificate✔️ A lifelong learning experience and cherished memories of Youva Mahotsav \n✨ Be a part of a legacy that has been shaping young minds for 20 years.📢 Register now and experience the spirit of Shubh Surabhi Youva Mahotsav 2026! \nTo Apply in Competition Click Here\nJoin WhatsApp Group to get Event Alerts\nFor Sponsorship\, Partnership connect with Event Coordinator:\nMr. Nikesh Thakur \n📞 Contact: 8789025653 \n📲 Email: digitalkharauna@gmail.com
URL:https://muzaffarpurworks.com/event/shubh-surabhi-quiz-competition/
LOCATION:Kharauna Library\, Kharauna Library\, Near Patahi Airport\, Kharauna\, Muzaffarpur\, Bihar\, 843113\, India
ATTACH;FMTTYPE=image/jpeg:https://muzaffarpurworks.com/wp-content/uploads/2025/12/Shubh-Surabhi-Quiz-Competition.jpg
ORGANIZER;CN="Shubh Surabhi Kalyan Sansthan%2C Kharauna":MAILTO:digitalkharauna@gmail.com
END:VEVENT
BEGIN:VEVENT
DTSTART;TZID=Asia/Kolkata:20260118T090000
DTEND;TZID=Asia/Kolkata:20260118T100000
DTSTAMP:20260421T175241
CREATED:20251221T174740Z
LAST-MODIFIED:20251222T133538Z
UID:2489-1768726800-1768730400@muzaffarpurworks.com
SUMMARY:Shubh Surabhi Drawing Competition 2026
DESCRIPTION:Competitions play an important role in nurturing creativity\, confidence\, and awareness among young minds. They encourage participants to think deeply\, express freely\, and contribute meaningfully to society. \nWith this vision\, Shubh Surabhi Kalyan Sansthan and Team Kharauna proudly organize the Shubh Surabhi Drawing Competition under Shubh Surabhi Yuva Mahotsav 2026\, based on the theme “Clean India\, Beautiful India.” \n📅 Date: 18 January 2026📍 Venue: Kharauna Library\, Muzaffarpur🎨 Subject: Clean India\, Beautiful India💰 Registration Fee: Only ₹50 \nThis competition provides a platform for participants to express their thoughts on cleanliness\, environmental responsibility\, and a sustainable future through art. Every drawing reflects imagination\, awareness\, and a commitment toward building a cleaner and greener nation. \nBeyond colors and sketches\, such competitions help develop creativity\, social responsibility\, and confidence. Every participant contributes to spreading an important message and strengthening the spirit of positive change. \nWe invite all creative minds to take part and let their art speak for a better tomorrow. \nBecause small strokes today can paint a brighter\, greener future. \nTo Apply in Competition Click Here\nJoin WhatsApp Group to get Event Alerts\nFor Sponsorship\, Partnership connect with Event Coordinator:\nMr. Nikesh Thakur \n📞 Contact: 8789025653 \n📲 Email: digitalkharauna@gmail.com
URL:https://muzaffarpurworks.com/event/shubh-surabhi-drawing-competition-2026/
LOCATION:Kharauna Library\, Kharauna Library\, Near Patahi Airport\, Kharauna\, Muzaffarpur\, Bihar\, 843113\, India
ATTACH;FMTTYPE=image/jpeg:https://muzaffarpurworks.com/wp-content/uploads/2025/12/Shubh-Surabhi-Drawing-Competition.jpg
ORGANIZER;CN="Shubh Surabhi Kalyan Sansthan%2C Kharauna":MAILTO:digitalkharauna@gmail.com
END:VEVENT
BEGIN:VEVENT
DTSTART;TZID=Asia/Kolkata:20260117T130000
DTEND;TZID=Asia/Kolkata:20260117T160000
DTSTAMP:20260421T175241
CREATED:20251220T175621Z
LAST-MODIFIED:20251222T140520Z
UID:2476-1768654800-1768665600@muzaffarpurworks.com
SUMMARY:Chess Competition | Shubh Surabhi Yuva Mahotsav 2025
DESCRIPTION:As part of Shubh Surabhi Yuva Mahotsav 2026\, a Chess Competition is being organized to encourage strategic thinking\, concentration\, and sportsmanship among youth. The event offers a great platform for chess enthusiasts to showcase their skills in a competitive and friendly environment. \n📝 Registration\n\nRegistration Fee: Only ₹50/-\nLimited slots are available. Participants are advised to register early.\n\n🏆 Prizes & Recognition\n\nAttractive prizes\, trophies\, and certificates will be awarded to the winners.\nParticipation certificates may be provided to eligible participants.\n\n🤝 Sponsorship Opportunity\nIndividuals\, organizations\, and institutions interested in becoming event sponsors are welcome to contact the organizing committee. Supporting this event is a meaningful way to encourage youth talent and intellectual sports. \n♞ Important Notes\n\nParticipants are requested to report on time.\nThe decision of the organizing committee will be final.\n\n🧠 “Think smart\, play sharp.” \nTo Apply in Competition Click Here\nJoin WhatsApp Group to get Event Alerts\nFor Sponsorship\, Partnership connect with Event Coordinator:\nMr. Nikesh Thakur \n📞 Contact: 8789025653 \n📲 Email: digitalkharauna@gmail.com
URL:https://muzaffarpurworks.com/event/chess-competition-shubh-surabhi-yuva-mahotsav-2025/
LOCATION:Kharauna Library\, Kharauna Library\, Near Patahi Airport\, Kharauna\, Muzaffarpur\, Bihar\, 843113\, India
ATTACH;FMTTYPE=image/jpeg:https://muzaffarpurworks.com/wp-content/uploads/2025/12/Shubh-Surabhi-Chess-Competition2.jpg
ORGANIZER;CN="Team Kharauna":MAILTO:digitalkharauna@gmail.com
END:VEVENT
BEGIN:VEVENT
DTSTART;TZID=Asia/Kolkata:20260117T090000
DTEND;TZID=Asia/Kolkata:20260118T170000
DTSTAMP:20260421T175241
CREATED:20251218T195420Z
LAST-MODIFIED:20251222T132528Z
UID:2420-1768640400-1768755600@muzaffarpurworks.com
SUMMARY:Shubh Surabhi Yuva Mahotsav 2026
DESCRIPTION:Shubh Surabhi Yuva Mahotsav 2026 is an energetic\, youth-focused festival featuring a wide range of competitions across sports\, arts\, and knowledge-based activities. Inspired by the teachings and ideals of the great saint Swami Vivekananda\, this annual celebration is held during his birth week as a tribute to his powerful vision of an empowered\, disciplined\, and value-driven youth. \nThe primary objective of the festival is to provide a common platform for children and young individuals to showcase their talents while fostering self-confidence\, discipline\, leadership\, and a spirit of healthy competition. Through diverse events and activities\, the Mahotsav aims to encourage holistic development and inspire participants to strive for excellence in all aspects of life. \nThe festival is organized by Shubh Surabhi Kalyan Sansthan in collaboration with Team Kharauna\, whose dedicated efforts aim to nurture youth potential and promote positive social values within the community. \n\nCompetitions\n\n100 Meter Sprint (different groups: 9 to 21 years)\nLong Jump (two groups: 13 to 21 years)\nMusical Chair\nDrawing Competition\nQuiz Competition\nChess Competition\nSpeech Competition\n\n\nDrawing Competition – Themes\n\nVillage Life\nClean India – Beautiful India\n\n\nSpeech Topics\n\nClasses 5 to 8:My Life Goal and My Daily Efforts to Achieve It\nClass 9 and Above:Addiction: The Silent Destroyer of Society and the Role of Youth Power\n\n\nTo Apply in Competition Click Here\nJoin WhatsApp Group to get Event Alerts\nFor Sponsorship\, Partnership connect with Event Coordinator:\nMr. Nikesh Thakur \n📞 Contact: 8789025653 \n📲 Email: digitalkharauna@gmail.com
URL:https://muzaffarpurworks.com/event/shubh-surabhi-yuva-mahotsav-2026/
LOCATION:Kharauna Library\, Kharauna Library\, Near Patahi Airport\, Kharauna\, Muzaffarpur\, Bihar\, 843113\, India
ATTACH;FMTTYPE=image/jpeg:https://muzaffarpurworks.com/wp-content/uploads/2025/12/DSC_0907-scaled.jpg
ORGANIZER;CN="Team Kharauna":MAILTO:digitalkharauna@gmail.com
END:VEVENT
BEGIN:VEVENT
DTSTART;TZID=Asia/Kolkata:20251222T100000
DTEND;TZID=Asia/Kolkata:20251225T170000
DTSTAMP:20260421T175241
CREATED:20251221T213350Z
LAST-MODIFIED:20251221T213350Z
UID:2522-1766397600-1766682000@muzaffarpurworks.com
SUMMARY:Sansad Khel Mahotsav 2025 in Muzaffarpur | 22 to 25 December
DESCRIPTION:🎉 Sansad Khel Mahotsav – Muzaffarpur 🎉 \nAll sports enthusiasts are informed that Sansad Khel Mahotsav is being organized in Muzaffarpur from 22 December to 25 December at Jawahar Lal Nehru Stadium\, Sikandarpur\, Muzaffarpur. \n🏟️ Venue: Jawahar Lal Nehru Stadium\, Sikandarpur📅 Dates: 22nd December to 25th December \n🏆 Games Included:Kho-Kho | Kabaddi | Chess | Volleyball | Tennis | Badminton | Tug of War \nInterested players are requested to register online to participate.👉 Registration Link: https://sansadkhelmahotsav.in/open-registration \nDon’t miss this opportunity to showcase your talent and be a part of this grand sports event! 💪🏅
URL:https://muzaffarpurworks.com/event/sansad-khel-mahotsav-2025-in-muzaffarpur-22-to-25-december/
LOCATION:JLN Stadium Muzaffarpur\, Jawahar Lal Nehru Stadium\, Sikandarpur\, Muzaffarpur\, Bihar\, 842001
END:VEVENT
END:VCALENDAR